BEGIN:VCALENDAR
VERSION:2.0
PRODID:-//Borbjerg-Hvam - ECPv6.14.2//NONSGML v1.0//EN
CALSCALE:GREGORIAN
METHOD:PUBLISH
X-WR-CALNAME:Borbjerg-Hvam
X-ORIGINAL-URL:https://borbjerg-hvam.dk
X-WR-CALDESC:Begivenheder for Borbjerg-Hvam
REFRESH-INTERVAL;VALUE=DURATION:PT1H
X-Robots-Tag:noindex
X-PUBLISHED-TTL:PT1H
BEGIN:VTIMEZONE
TZID:Europe/Copenhagen
BEGIN:DAYLIGHT
TZOFFSETFROM:+0100
TZOFFSETTO:+0200
TZNAME:CEST
DTSTART:20240331T010000
END:DAYLIGHT
BEGIN:STANDARD
TZOFFSETFROM:+0200
TZOFFSETTO:+0100
TZNAME:CET
DTSTART:20241027T010000
END:STANDARD
END:VTIMEZONE
BEGIN:VEVENT
DTSTART;TZID=Europe/Copenhagen:20240223T180000
DTEND;TZID=Europe/Copenhagen:20240223T180000
DTSTAMP:20260422T120236
CREATED:20240207T081656Z
LAST-MODIFIED:20240207T081705Z
UID:10000747-1708711200-1708711200@borbjerg-hvam.dk
SUMMARY:FÆLLESSPISNING OG TOPKAMP
DESCRIPTION:HMH byder på topkamp i herrernes 3. div kl. 19.30\, hvor Randers FH kommer på besøg. En kamp mellem nr. 2 og 3 i puljen. \nSlå to fluer med et smæk. Udover at komme og heppe på de lokale knægte\, så kan du for 75 kroner få nem og lækker aftensmad. Centret arrangerer fællesspisning\, hvor menuen er Bøfsandwich med pommes frites mm. Som forkamp til herrerne\, byder vi endda på vaskeægte lokalopgør\, da HMH møder Hogager i U11 drenge kl. 18.15. Bedre bliver det næsten ikke en fredag aften:) \nTilmelding til fællesspisning foregår på sms med navn og antal senest torsdag den 22/2 til enten køkkenet på 20676300 eller centerlederen på 20776300. \nHÅBER VI SES
URL:https://borbjerg-hvam.dk/kalender/faellesspisning-og-topkamp/
LOCATION:Borbjerg Hvam Kultur-og Fritidscenter
END:VEVENT
END:VCALENDAR