BEGIN:VCALENDAR
VERSION:2.0
PRODID:-//Borbjerg-Hvam - ECPv6.14.2//NONSGML v1.0//EN
CALSCALE:GREGORIAN
METHOD:PUBLISH
X-ORIGINAL-URL:https://borbjerg-hvam.dk
X-WR-CALDESC:Begivenheder for Borbjerg-Hvam
REFRESH-INTERVAL;VALUE=DURATION:PT1H
X-Robots-Tag:noindex
X-PUBLISHED-TTL:PT1H
BEGIN:VTIMEZONE
TZID:Europe/Copenhagen
BEGIN:DAYLIGHT
TZOFFSETFROM:+0100
TZOFFSETTO:+0200
TZNAME:CEST
DTSTART:20190331T010000
END:DAYLIGHT
BEGIN:STANDARD
TZOFFSETFROM:+0200
TZOFFSETTO:+0100
TZNAME:CET
DTSTART:20191027T010000
END:STANDARD
END:VTIMEZONE
BEGIN:VEVENT
DTSTART;TZID=Europe/Copenhagen:20190228T183000
DTEND;TZID=Europe/Copenhagen:20190228T203000
DTSTAMP:20260421T105104
CREATED:20190110T124937Z
LAST-MODIFIED:20190111T201508Z
UID:10000100-1551378600-1551385800@borbjerg-hvam.dk
SUMMARY:Indkaldelse til stormøde
DESCRIPTION:Så samles vi igen.
URL:https://borbjerg-hvam.dk/kalender/indkaldelse-til-stormoede-22/
LOCATION:Borbjerg-Hvam Kultur og Fritidscenter – Sognegården
CATEGORIES:Borbjerg-hvam
ATTACH;FMTTYPE=image/jpeg:https://borbjerg-hvam.dk/wp-content/uploads/2019/01/stormøde.jpeg
ORGANIZER;CN="J%C3%B8rgen Thusgaard":MAILTO:buk19@mvb.net
END:VEVENT
END:VCALENDAR