BEGIN:VCALENDAR
VERSION:2.0
PRODID:-//Borbjerg-Hvam - ECPv6.14.2//NONSGML v1.0//EN
CALSCALE:GREGORIAN
METHOD:PUBLISH
X-WR-CALNAME:Borbjerg-Hvam
X-ORIGINAL-URL:https://borbjerg-hvam.dk
X-WR-CALDESC:Begivenheder for Borbjerg-Hvam
REFRESH-INTERVAL;VALUE=DURATION:PT1H
X-Robots-Tag:noindex
X-PUBLISHED-TTL:PT1H
BEGIN:VTIMEZONE
TZID:Europe/Copenhagen
BEGIN:DAYLIGHT
TZOFFSETFROM:+0100
TZOFFSETTO:+0200
TZNAME:CEST
DTSTART:20200329T010000
END:DAYLIGHT
BEGIN:STANDARD
TZOFFSETFROM:+0200
TZOFFSETTO:+0100
TZNAME:CET
DTSTART:20201025T010000
END:STANDARD
END:VTIMEZONE
BEGIN:VEVENT
DTSTART;TZID=Europe/Copenhagen:20200630T170000
DTEND;TZID=Europe/Copenhagen:20200630T200000
DTSTAMP:20260421T153332
CREATED:20200618T235624Z
LAST-MODIFIED:20200629T234242Z
UID:10000714-1593536400-1593547200@borbjerg-hvam.dk
SUMMARY:Arbejdsdag flis rundt på stien ved møllesøen.
DESCRIPTION:Stien rundt om mølle søen er begyndt at blive lidt slidt og det er tid til at få lagt et nyt lag flis. \nVi var desværre nød til at udsætte det sidst pga corona. Men nu er vi klar til at prøve igen. \nDerfor invitere Borgerforeningen i samarbejde med Borbjerg mølle og Borbjerg Sparekassen til en hyggelig arbejds aften. \nVi mødes kl 17.00 og starter med arbejdet. \nCa kl 19.00 regner vi med at være færdige hvor møllen byder på øl\, sodavand og biksemad. \nSparekassen har sponsoret kolde kildevand. \nVi har taget håndsprit med og vi s”ørger for at dele os op i grupper. \nSå tag familien og naboen med og lad os få vores sti gjort sommerklar.
URL:https://borbjerg-hvam.dk/kalender/arbejdsdag-flis-rundt-paa-stien-ved-moellesoeen/
LOCATION:Borbjerg Møllevej 3
CATEGORIES:Borbjerg-hvam
ATTACH;FMTTYPE=image/jpeg:https://borbjerg-hvam.dk/wp-content/uploads/2020/06/1957df08-2fb1-ea11-811d-0a000fa90c6f-hoEMB1.tmp_.jpg
ORGANIZER;CN="Jonna N%C3%B8rgaard":MAILTO:jonna_noergaard@live.dk
END:VEVENT
END:VCALENDAR