BEGIN:VCALENDAR
VERSION:2.0
PRODID:-//Borbjerg-Hvam - ECPv6.14.2//NONSGML v1.0//EN
CALSCALE:GREGORIAN
METHOD:PUBLISH
X-ORIGINAL-URL:https://borbjerg-hvam.dk
X-WR-CALDESC:Begivenheder for Borbjerg-Hvam
REFRESH-INTERVAL;VALUE=DURATION:PT1H
X-Robots-Tag:noindex
X-PUBLISHED-TTL:PT1H
BEGIN:VTIMEZONE
TZID:Europe/Copenhagen
BEGIN:DAYLIGHT
TZOFFSETFROM:+0100
TZOFFSETTO:+0200
TZNAME:CEST
DTSTART:20190331T010000
END:DAYLIGHT
BEGIN:STANDARD
TZOFFSETFROM:+0200
TZOFFSETTO:+0100
TZNAME:CET
DTSTART:20191027T010000
END:STANDARD
END:VTIMEZONE
BEGIN:VEVENT
DTSTART;TZID=Europe/Copenhagen:20190531T100000
DTEND;TZID=Europe/Copenhagen:20190531T170000
DTSTAMP:20260423T201548
CREATED:20190527T110758Z
LAST-MODIFIED:20190530T234350Z
UID:10000326-1559296800-1559322000@borbjerg-hvam.dk
SUMMARY:Netcafé fredag fra 10-17
DESCRIPTION:Reservér en plads til Natcafé via opslag på facebooksiden Borbjerg E-Sport
URL:https://borbjerg-hvam.dk/kalender/netcafe-fredag-fra-10-17/
LOCATION:Hvamvej 84\, Borbjerg\, E-Sportslokalet
CATEGORIES:Borbjerg-hvam,E-Sport
ATTACH;FMTTYPE=image/jpeg:https://borbjerg-hvam.dk/wp-content/uploads/2019/05/884ac207-6f80-e911-811d-0a000fa90c6f.jpg
ORGANIZER;CN="Malene Damgaard Jensen":MAILTO:borbjergesport@gmail.com
END:VEVENT
BEGIN:VEVENT
DTSTART;TZID=Europe/Copenhagen:20190530T150000
DTEND;TZID=Europe/Copenhagen:20190530T170000
DTSTAMP:20260423T201548
CREATED:20190527T110756Z
LAST-MODIFIED:20190527T112308Z
UID:10000656-1559228400-1559235600@borbjerg-hvam.dk
SUMMARY:Netcafé torsdag fra 15-17
DESCRIPTION:Reservér en plads til Natcafé via opslag på facebooksiden Borbjerg E-Sport
URL:https://borbjerg-hvam.dk/kalender/netcafe-torsdag-fra-15-17-2/
LOCATION:Hvamvej 84\, Borbjerg\, E-Sportslokalet
CATEGORIES:Borbjerg-hvam,E-Sport
ATTACH;FMTTYPE=image/jpeg:https://borbjerg-hvam.dk/wp-content/uploads/2019/05/056319ec-6e80-e911-811d-0a000fa90c6f-1.jpg
ORGANIZER;CN="Malene Damgaard Jensen":MAILTO:borbjergesport@gmail.com
END:VEVENT
BEGIN:VEVENT
DTSTART;TZID=Europe/Copenhagen:20190530T150000
DTEND;TZID=Europe/Copenhagen:20190530T170000
DTSTAMP:20260423T201548
CREATED:20190527T110755Z
LAST-MODIFIED:20190529T233556Z
UID:10000653-1559228400-1559235600@borbjerg-hvam.dk
SUMMARY:Netcafé torsdag fra 15-17
DESCRIPTION:Reservér en plads til Natcafé via opslag på facebooksiden Borbjerg E-Sport
URL:https://borbjerg-hvam.dk/kalender/netcafe-torsdag-fra-15-17/
LOCATION:Hvamvej 84\, Borbjerg\, E-Sportslokalet
CATEGORIES:Borbjerg-hvam,E-Sport
ATTACH;FMTTYPE=image/jpeg:https://borbjerg-hvam.dk/wp-content/uploads/2019/05/056319ec-6e80-e911-811d-0a000fa90c6f-2.jpg
ORGANIZER;CN="Malene Damgaard Jensen":MAILTO:borbjergesport@gmail.com
END:VEVENT
END:VCALENDAR