BEGIN:VCALENDAR
VERSION:2.0
PRODID:-//Borbjerg-Hvam - ECPv6.14.2//NONSGML v1.0//EN
CALSCALE:GREGORIAN
METHOD:PUBLISH
X-WR-CALNAME:Borbjerg-Hvam
X-ORIGINAL-URL:https://borbjerg-hvam.dk
X-WR-CALDESC:Begivenheder for Borbjerg-Hvam
REFRESH-INTERVAL;VALUE=DURATION:PT1H
X-Robots-Tag:noindex
X-PUBLISHED-TTL:PT1H
BEGIN:VTIMEZONE
TZID:Europe/Copenhagen
BEGIN:DAYLIGHT
TZOFFSETFROM:+0100
TZOFFSETTO:+0200
TZNAME:CEST
DTSTART:20190331T010000
END:DAYLIGHT
BEGIN:STANDARD
TZOFFSETFROM:+0200
TZOFFSETTO:+0100
TZNAME:CET
DTSTART:20191027T010000
END:STANDARD
END:VTIMEZONE
BEGIN:VEVENT
DTSTART;TZID=Europe/Copenhagen:20191122T090000
DTEND;TZID=Europe/Copenhagen:20191122T110000
DTSTAMP:20260425T221549
CREATED:20191112T234255Z
LAST-MODIFIED:20191121T234103Z
UID:10000344-1574413200-1574420400@borbjerg-hvam.dk
SUMMARY:Borbjerg Aktive Seniorer - Karin og Dennis - EDB
DESCRIPTION:Karin og Dennis har indbudt os til “Senior Hygge”\, hvor vi p”å en afslappet måde bliver klogere på vores mobiltelefon. Alle er velkommen. Der er ingen tilmelding. Mød bare op i e-sportslokalet i Centeret. \nFredag den 22. november kl 9.00 – 11\,00 \nBorbjerg Aktive Seniorer
URL:https://borbjerg-hvam.dk/kalender/borbjerg-aktive-seniorer-karin-og-dennis-edb/
LOCATION:Kultur og fritidscenteret i e-sportslokalet.
CATEGORIES:Borbjerg-hvam
ATTACH;FMTTYPE=image/jpeg:https://borbjerg-hvam.dk/wp-content/uploads/2019/11/b61a1078-2305-ea11-811d-0a000fa90c6f.jpg
ORGANIZER;CN="J%C3%B8rgen Thusgaard":MAILTO:buk19@mvb.net
END:VEVENT
END:VCALENDAR