BEGIN:VCALENDAR
VERSION:2.0
PRODID:-//Borbjerg-Hvam - ECPv6.14.2//NONSGML v1.0//EN
CALSCALE:GREGORIAN
METHOD:PUBLISH
X-WR-CALNAME:Borbjerg-Hvam
X-ORIGINAL-URL:https://borbjerg-hvam.dk
X-WR-CALDESC:Begivenheder for Borbjerg-Hvam
REFRESH-INTERVAL;VALUE=DURATION:PT1H
X-Robots-Tag:noindex
X-PUBLISHED-TTL:PT1H
BEGIN:VTIMEZONE
TZID:Europe/Copenhagen
BEGIN:DAYLIGHT
TZOFFSETFROM:+0100
TZOFFSETTO:+0200
TZNAME:CEST
DTSTART:20190331T010000
END:DAYLIGHT
BEGIN:STANDARD
TZOFFSETFROM:+0200
TZOFFSETTO:+0100
TZNAME:CET
DTSTART:20191027T010000
END:STANDARD
END:VTIMEZONE
BEGIN:VEVENT
DTSTART;TZID=Europe/Copenhagen:20191212T093000
DTEND;TZID=Europe/Copenhagen:20191212T113000
DTSTAMP:20260425T221636
CREATED:20191112T234307Z
LAST-MODIFIED:20191211T212701Z
UID:10000347-1576143000-1576150200@borbjerg-hvam.dk
SUMMARY:Borbjerg Aktive Seniorer - Juleafslutning v. Asger Petersen
DESCRIPTION:Juleafslutning
URL:https://borbjerg-hvam.dk/kalender/borbjerg-aktive-seniorer-juleafslutning-v-asger-petersen/
LOCATION:Kultur og fritidscenteret – Multisalen
CATEGORIES:Borbjerg-hvam
ATTACH;FMTTYPE=image/jpeg:https://borbjerg-hvam.dk/wp-content/uploads/2019/11/74f74849-2605-ea11-811d-0a000fa90c6f.jpg
ORGANIZER;CN="J%C3%B8rgen Thusgaard":MAILTO:buk19@mvb.net
END:VEVENT
END:VCALENDAR